BEGIN:VCALENDAR
PRODID:-//AT Content Types//AT Event//EN
VERSION:1.0
BEGIN:VEVENT
DTSTART:20110201T043000Z
DTEND:20110201T172500Z
DCREATED:20110107T172821Z
UID:ATEvent-4bf702371f0bcff830ebd98123fada57
SEQUENCE:0
LAST-MODIFIED:20110217T012825Z
SUMMARY:OpenIt ASIC 2010
PRIORITY:3
TRANSP:0
END:VEVENT
END:VCALENDAR
